BEGIN:VCALENDAR
VERSION:2.0
PRODID:-//ChamberMaster//Event Calendar 2.0//EN
METHOD:PUBLISH
X-PUBLISHED-TTL:P3D
REFRESH-INTERVAL:P3D
CALSCALE:GREGORIAN
BEGIN:VEVENT
DTSTART:20200409T230000Z
DTEND:20200410T010000Z
X-MICROSOFT-CDO-ALLDAYEVENT:FALSE
SUMMARY:Small Business Webinar - with Kim Strohmeier
DESCRIPTION:Working with the Frankfort Area Chamber\, I am glad to offer a FREE virtual Business Survival Workshop to show you how to generate more leads\,  close more sales\, and the steps to take when things settle down to generate immediate revenue with increased profit.\n\n \n\n     Following our webinar\,  I'll open up a virtual forum for questions\, masterminding solutions\, and general problem-solving.\n\n \n\n      This will be completely proactive and results-oriented\, with no fluff and no theory\, and NO sales pitch.  \n\n \n\n       We've even made it easy for you to engage during this FREE Workshop by registering online at chamber@frankfortky.info\n\nThursday\, April 9\, from 7:00PM-9:00PM \n\n \n\nHope you can join me.\n\n--- To your success!\n\n\n\nKim D. Strohmeier \n\n    Author of: \n\nA Guide to Growing Your Business  \n\n       and\n\nTurn Your Business Into a Powerhouse
X-ALT-DESC;FMTTYPE=text/html:<span style="language:en-US\;"><span style="font-family:calibri\;"><span style="font-size:12.0pt\;">Working with the Frankfort Area Chamber\, I am glad to offer a </span></span></span><span style="font-weight:bold\;language:en-US\;"><span style="font-family:calibri\;"><span style="font-size:12.0pt\;">FREE</span></span></span><span style="language:en-US\;"><span style="font-family:calibri\;"><span style="font-size:12.0pt\;"> virtual Business Survival Workshop to show you how to generate more leads\,&nbsp\; close more sales\, and the steps to take when things settle down to generate immediate revenue with increased profit.</span></span></span><br />\n&nbsp\;<br />\n<span style="language:en-US\;"><span style="font-family:calibri\;"><span style="font-size:12.0pt\;">&nbsp\;&nbsp\;&nbsp\;&nbsp\; Following our webinar\,&nbsp\; I&rsquo\;ll open up a virtual forum for questions\, masterminding solutions\, and general problem-solving.</span></span></span><br />\n&nbsp\;<br />\n<span style="language:en-US\;"><span style="font-family:calibri\;"><span style="font-size:12.0pt\;">&nbsp\;&nbsp\;&nbsp\;&nbsp\;&nbsp\; This will be completely proactive and results-oriented\, with no fluff and no theory\, and NO sales pitch.&nbsp\;&nbsp\;</span></span></span><br />\n&nbsp\;<br />\n<span style="language:en-US\;"><span style="font-family:calibri\;"><span style="font-size:12.0pt\;">&nbsp\;&nbsp\;&nbsp\;&nbsp\;&nbsp\;&nbsp\; We&rsquo\;ve even made it easy for you to engage during this FREE Workshop by registering online at chamber@frankfortky.info</span></span></span><br />\n<span style="font-weight:bold\;language:en-US\;"><span style="font-family:calibri\;"><span style="font-size:12.0pt\;">Thursday\, April 9\, from 7:00PM-9:00PM </span></span></span><br />\n&nbsp\;<br />\n<span style="language:en-US\;"><span style="font-family:calibri\;"><span style="font-size:12.0pt\;">Hope you can join me.</span></span></span><br />\n<span style="font-style:italic\;language:en-US\;"><span style="color:black\;"><span style="font-family:verdana\;">--- To your success!</span></span></span><br />\n<br />\n<span style="font-style:italic\;font-weight:bold\;language:en-US\;"><span style="color:#334857\;"><span style="font-family:verdana\;">Kim D. Strohmeier</span></span></span>&nbsp\;<br />\n&nbsp\;&nbsp\;&nbsp\; <span style="language:en-US\;"><span style="color:black\;"><span style="font-family:verdana\;"><span style="font-size:8.0pt\;">Author of: </span></span></span></span><br />\n<span style="text-decoration:underline\;text-underline:single\;font-weight:bold\;language:en-US\;"><span style="color:#334857\;"><span style="font-family:verdana\;">A Guide to Growing Your Business</span></span></span>&nbsp\;&nbsp\;<br />\n&nbsp\;&nbsp\;&nbsp\;&nbsp\;<span style="language:en-US\;"><span style="color:black\;"><span style="font-family:verdana\;"><span style="font-size:8.0pt\;">&nbsp\;&nbsp\; and</span></span></span></span><br />\n<span style="text-decoration:underline\;text-underline:single\;font-weight:bold\;language:en-US\;"><span style="color:#334857\;"><span style="font-family:verdana\;">Turn Your Business Into a Powerhouse</span></span></span><br />\n&nbsp\;
LOCATION:Zoom Webinar
UID:e.1786.3527
SEQUENCE:3
DTSTAMP:20260424T164826Z
URL:https://members.frankfortky.info/events/details/small-business-webinar-with-kim-strohmeier-3527
END:VEVENT

END:VCALENDAR
