BEGIN:VCALENDAR
VERSION:2.0
PRODID:-//ChamberMaster//Event Calendar 2.0//EN
METHOD:PUBLISH
X-PUBLISHED-TTL:P3D
REFRESH-INTERVAL:P3D
CALSCALE:GREGORIAN
BEGIN:VEVENT
DTSTART:20180724T200000Z
DTEND:20180724T220000Z
X-MICROSOFT-CDO-ALLDAYEVENT:FALSE
SUMMARY:Social Soiree- Ashwood Place
DESCRIPTION:Learn how make every day exceptional. Stop by after work and experience our Lifestyle 360 Program. From social outings to spiritual meditation. Lifestyle 360 brings the Five Dimensions of Wellness into perfect Harmony. Join us for an evening of adventure as you experience the intellectual\, social\, physical\, emotional\, and spiritual activities our residents enjoy daily. End the evening with a happy hour featuring our Five Star signature cocktails and appetizers.
X-ALT-DESC;FMTTYPE=text/html:Learn how make every day exceptional. Stop by after work and experience our Lifestyle 360 Program. From social outings to spiritual meditation. Lifestyle 360 brings the Five Dimensions of Wellness into perfect Harmony. Join us for an evening of adventure as you experience the intellectual\, social\, physical\, emotional\, and spiritual activities our residents enjoy daily. End the evening with a happy hour featuring our Five Star signature cocktails and appetizers.
LOCATION:Ashwood Place 102 Leonardwood Drive Frankfort KY 40601
UID:e.1786.3007
SEQUENCE:3
DTSTAMP:20260426T041030Z
URL:https://members.frankfortky.info/events/details/social-soiree-ashwood-place-3007
END:VEVENT

END:VCALENDAR
