BEGIN:VCALENDAR
VERSION:2.0
PRODID:-//ChamberMaster//Event Calendar 2.0//EN
METHOD:PUBLISH
X-PUBLISHED-TTL:P3D
REFRESH-INTERVAL:P3D
CALSCALE:GREGORIAN
BEGIN:VEVENT
DTSTART:20190511T140000Z
DTEND:20190511T160000Z
X-MICROSOFT-CDO-ALLDAYEVENT:FALSE
SUMMARY:Spring Plant Sale at Liberty Hall
DESCRIPTION:Join us behind the Orlando Brown House at 202 Wilkinson Street for our annual spring plant sale! Purchase a piece of our historic garden to plant in yours\, or pick up a unique gift for mom just in time for Mother's Day.\n\n\n\nThis year's sale features Foxglove\, Bugloss\, Ajuga\, Irises\, Hostas\, Interrupted Ferns and much\, much more! Click the link below to see a full list of featured plants.
X-ALT-DESC;FMTTYPE=text/html:<span style="font-size:11px\;"><span style="color:#333333\;"><span style="font-family:arial\,sans-serif\;">Join us behind the Orlando Brown House at 202 Wilkinson Street for our annual spring plant sale! Purchase a piece of our historic garden to plant in yours\, or pick up a unique gift for mom just in time for Mother&#39\;s Day.</span></span><br />\n<br />\n<span style="color:#333333\;"><span style="font-family:arial\,sans-serif\;">This year&#39\;s sale features Foxglove\, Bugloss\, Ajuga\, Irises\, Hostas\, Interrupted Ferns and much\, much more! Click the link below to see a full list of featured plants.</span></span></span>
LOCATION:Liberty Hall Historic Site 202 Wilkinson Street Frankfort
UID:e.1786.3114
SEQUENCE:3
DTSTAMP:20260425T133402Z
URL:https://members.frankfortky.info/events/details/spring-plant-sale-at-liberty-hall-3114
END:VEVENT

END:VCALENDAR
