BEGIN:VCALENDAR
VERSION:2.0
PRODID:-//ChamberMaster//Event Calendar 2.0//EN
METHOD:PUBLISH
X-PUBLISHED-TTL:P3D
REFRESH-INTERVAL:P3D
CALSCALE:GREGORIAN
BEGIN:VEVENT
DTSTART:20220607T140000Z
DTEND:20220607T173000Z
X-MICROSOFT-CDO-ALLDAYEVENT:FALSE
SUMMARY:Staff/Board(s) -Tour KSU Aquaculture
DESCRIPTION:KSU has graciously offered to take us on a tour Benson Farm and the Aquaculture facility. We will have a complimentary lunch and learn more about  KSU.
X-ALT-DESC;FMTTYPE=text/html:<p class="xxmsonormal"><span style="font-family:&quot\;Georgia&quot\;\,serif\;color:black">KSU has graciously offered to take us on a tour Benson Farm and the Aquaculture facility. We will have a complimentary&nbsp\;lunch and learn more about&nbsp\; KSU.</span><o:p></o:p></p>\n
LOCATION:10 a.m. Arrive KSU Main Entrance - Exum Lot
UID:e.1786.3947
SEQUENCE:3
DTSTAMP:20260422T192800Z
URL:https://members.frankfortky.info/events/details/staff-board-s-tour-ksu-aquaculture-3947
END:VEVENT

END:VCALENDAR
