BEGIN:VCALENDAR
VERSION:2.0
PRODID:-//ChamberMaster//Event Calendar 2.0//EN
METHOD:PUBLISH
X-PUBLISHED-TTL:P3D
REFRESH-INTERVAL:P3D
CALSCALE:GREGORIAN
BEGIN:VEVENT
DTSTART:20180714T130000Z
DTEND:20180714T190000Z
X-MICROSOFT-CDO-ALLDAYEVENT:FALSE
SUMMARY:STEM Day Open House at KSU
DESCRIPTION:Kentucky State University Presents STEM Day Open House. Science\, Technology\, Engineering and Mathematics.
X-ALT-DESC;FMTTYPE=text/html:Kentucky State University Presents STEM Day Open House. Science\, Technology\, Engineering and Mathematics.&nbsp\;
LOCATION:Kentucky State University Aquaculture Research Center 103 Athletic Road Frankfort\, KY
UID:e.1786.3005
SEQUENCE:3
DTSTAMP:20260426T040842Z
URL:https://members.frankfortky.info/events/details/stem-day-open-house-at-ksu-3005
END:VEVENT

END:VCALENDAR
