BEGIN:VCALENDAR
VERSION:2.0
PRODID:-//ChamberMaster//Event Calendar 2.0//EN
METHOD:PUBLISH
X-PUBLISHED-TTL:P3D
REFRESH-INTERVAL:P3D
CALSCALE:GREGORIAN
BEGIN:VEVENT
DTSTART:20190624T170000Z
DTEND:20190628T200000Z
X-MICROSOFT-CDO-ALLDAYEVENT:FALSE
SUMMARY:Summer Fun Field Trips
DESCRIPTION:Frankfort School of Ballet's Summer Fun Field Trips is a weeklong half-day camp for ages 3-16. Experience the special fun of summer! Using the Frankfort Transit system\, we will take a different trip each day of the week to places like Frankfort Aquatic Center\, Paul Sawyier Public Library\, Juniper Hills Playground\, Franklin Square Cinemas\, Lakeview Park Splashpad\, Capitol Bowling Alley\, East Frankfort Playground\, Kentucky History Center\, or Salato Wildlife Center. (The schedule will be determined each week based on the weather forecast and requests from participants. Depending on the schedule\, there may be small additional fees required.)
X-ALT-DESC;FMTTYPE=text/html:Frankfort School of Ballet&rsquo\;s Summer Fun Field Trips is a weeklong half-day camp for ages 3-16. Experience the special fun of summer! Using the Frankfort Transit system\, we will take a different trip each day of the week to places like Frankfort Aquatic Center\, Paul Sawyier Public Library\, Juniper Hills Playground\, Franklin Square Cinemas\, Lakeview Park Splashpad\, Capitol Bowling Alley\, East Frankfort Playground\, Kentucky History Center\, or Salato Wildlife Center. (The schedule will be determined each week based on the weather forecast and requests from participants. Depending on the schedule\, there may be small additional fees required.)
LOCATION:
UID:e.1786.3102
SEQUENCE:3
DTSTAMP:20260425T114430Z
URL:https://members.frankfortky.info/events/details/summer-fun-field-trips-06-24-2019-3102
END:VEVENT

END:VCALENDAR
