BEGIN:VCALENDAR
VERSION:2.0
PRODID:-//ChamberMaster//Event Calendar 2.0//EN
METHOD:PUBLISH
X-PUBLISHED-TTL:P3D
REFRESH-INTERVAL:P3D
CALSCALE:GREGORIAN
BEGIN:VEVENT
DTSTART:20191212T220000Z
DTEND:20191213T000000Z
X-MICROSOFT-CDO-ALLDAYEVENT:FALSE
SUMMARY:Terri's @ the Glen Willis Holiday Party
DESCRIPTION:Join the Frankfort Area Chamber for a Holiday Celebration and business networking hosted by Terri's Catering at the beautifully decorated Glen Willis House.\n\n\n\n.
X-ALT-DESC;FMTTYPE=text/html:<span style="font-size:12px\;"><span style="font-family:arial\;"><span style="color:#4C4C4C\;">Join the Frankfort Area Chamber for a Holiday Celebration and business networking hosted by Terri&#39\;s Catering at the beautifully decorated Glen Willis House.</span></span></span><br />\n<br />\n.
LOCATION:Glen Willis House 900 Wilkinson Blvd Frankfort\, Kentucky 40601
UID:e.1786.3167
SEQUENCE:3
DTSTAMP:20260425T001607Z
URL:https://members.frankfortky.info/events/details/terri-s-the-glen-willis-holiday-party-3167
END:VEVENT

END:VCALENDAR
