BEGIN:VCALENDAR
VERSION:2.0
PRODID:-//ChamberMaster//Event Calendar 2.0//EN
METHOD:PUBLISH
X-PUBLISHED-TTL:P3D
REFRESH-INTERVAL:P3D
CALSCALE:GREGORIAN
BEGIN:VEVENT
DTSTART:20181004T183000Z
DTEND:20181004T193000Z
X-MICROSOFT-CDO-ALLDAYEVENT:FALSE
SUMMARY:The Great Migration Challenge
DESCRIPTION:Experience your own "migration" and learn about the obstacles that migratory birds face each season! (Designed for children 6 & up)
X-ALT-DESC;FMTTYPE=text/html:Experience your own &quot\;migration&quot\; and learn about the obstacles that migratory birds face each season! (Designed for children 6 &amp\; up)
LOCATION:Salato Wildlife Education Center 1 Sportsman's Lane Frankfort\, KY 40601
UID:e.1786.3041
SEQUENCE:3
DTSTAMP:20260426T000218Z
URL:https://members.frankfortky.info/events/details/the-great-migration-challenge-3041
END:VEVENT

END:VCALENDAR
