BEGIN:VCALENDAR
VERSION:2.0
PRODID:-//ChamberMaster//Event Calendar 2.0//EN
METHOD:PUBLISH
X-PUBLISHED-TTL:P3D
REFRESH-INTERVAL:P3D
CALSCALE:GREGORIAN
BEGIN:VEVENT
DTSTART:20200120T220000Z
DTEND:20200121T000000Z
X-MICROSOFT-CDO-ALLDAYEVENT:FALSE
SUMMARY:The January Jamboree
DESCRIPTION:A benefit Dinner for The Sunshine Center\n\nFranklin County's Child Abuse Prevention Center\n\n\n\nA gourmet spaghetti dinner (the old family recipe)\, salad\, garlic bread\, drink\, and dessert
X-ALT-DESC;FMTTYPE=text/html:A benefit Dinner for The Sunshine Center<br />\nFranklin County&#39\;s Child Abuse Prevention Center<br />\n<br />\nA gourmet spaghetti dinner (the old family recipe)\, salad\, garlic bread\, drink\, and dessert&nbsp\;
LOCATION:First Christian Church 316 Ann Street Frankfort
UID:e.1786.3358
SEQUENCE:3
DTSTAMP:20260424T223901Z
URL:https://members.frankfortky.info/events/details/the-january-jamboree-3358
END:VEVENT

END:VCALENDAR
