BEGIN:VCALENDAR
VERSION:2.0
PRODID:-//ChamberMaster//Event Calendar 2.0//EN
METHOD:PUBLISH
X-PUBLISHED-TTL:P3D
REFRESH-INTERVAL:P3D
CALSCALE:GREGORIAN
BEGIN:VEVENT
DTSTART:20191221T193000Z
DTEND:20191221T210000Z
X-MICROSOFT-CDO-ALLDAYEVENT:FALSE
SUMMARY:The Life and Politics of Vice President Richard Mentor Johnson
DESCRIPTION:The Life and Politics of Vice President Richard Mentor Johnson\n\nSaturday\, December 21 @ 2:30pm\n\nRiver Room\n\n \n\nKentuckian Richard Mentor Johnson was one of the most famous and controversial politicians of his day. Drawing on her recent book\, historian Christina Snyder explores the forces that shaped Johnson's personal life and professional career and what his story reveals about antebellum America.\n\n \n\nSponsored by the Frankfort Civil War Roundtable\, the Capital City Museum\, and PSPL. No registration necessary. For more information\, contact Diane Dehoney at 352-2665 x108 or diane@pspl.org.
X-ALT-DESC;FMTTYPE=text/html:<p style="margin:0in\;margin-bottom:.0001pt\;background:white"><b><span style="font-family:&quot\;Calibri&quot\;\,&quot\;sans-serif&quot\;">The Life and Politics of Vice President Richard Mentor Johnson<br />\nSaturday\, December 21 @ 2:30pm<br />\nRiver Room<o:p></o:p></span></b></p>\n\n<p style="margin:0in\;margin-bottom:.0001pt\;background:white"><span style="font-family:&quot\;Calibri&quot\;\,&quot\;sans-serif&quot\;"><o:p>&nbsp\;</o:p></span></p>\n\n<p style="margin:0in\;margin-bottom:.0001pt\;background:white"><span style="font-family:&quot\;Calibri&quot\;\,&quot\;sans-serif&quot\;">Kentuckian Richard Mentor Johnson was one of the most famous and controversial politicians of his day. Drawing on her recent book\, historian Christina Snyder explores the forces that shaped Johnson&rsquo\;s personal life and professional career and what his story reveals about antebellum America.<o:p></o:p></span></p>\n\n<p style="margin:0in\;margin-bottom:.0001pt\;background:white"><span style="font-family:&quot\;Calibri&quot\;\,&quot\;sans-serif&quot\;"><o:p>&nbsp\;</o:p></span></p>\n\n<p style="margin:0in\;margin-bottom:.0001pt\;background:white"><span style="font-family:&quot\;Calibri&quot\;\,&quot\;sans-serif&quot\;">Sponsored by the Frankfort Civil War Roundtable\, the Capital City Museum\, and PSPL. No registration necessary. For more information\, contact Diane Dehoney at 352-2665 x108 or&nbsp\;<a href="mailto:diane@pspl.org"><span style="color:windowtext">diane@pspl.org</span></a>.<o:p></o:p></span></p>\n
LOCATION:
UID:e.1786.3336
SEQUENCE:3
DTSTAMP:20260425T001757Z
URL:https://members.frankfortky.info/events/details/the-life-and-politics-of-vice-president-richard-mentor-johnson-3336
END:VEVENT

END:VCALENDAR
