BEGIN:VCALENDAR
VERSION:2.0
PRODID:-//ChamberMaster//Event Calendar 2.0//EN
METHOD:PUBLISH
X-PUBLISHED-TTL:P3D
REFRESH-INTERVAL:P3D
CALSCALE:GREGORIAN
BEGIN:VEVENT
DTSTART:20200428T180000Z
DTEND:20200428T200000Z
X-MICROSOFT-CDO-ALLDAYEVENT:FALSE
SUMMARY:Time to Get Back to Work
DESCRIPTION:As your Chamber of Commerce\, we are deeply concerned about the survival of ALL our businesses in Frankfort/ Franklin Co.\, and how we can help our Chamber members live through this pandemic. \n\n \n\nA Chamber member\, Kim Strohmeier\, who is a business coach specializing in business planning and marketing\, recently led a couple of virtual focus groups for the Frankfort Chamber about how business' might survive this crisis\, and how they can actually improve the health of their business long-term. These focus groups were well-received with those business owners that attended\, and we wanted to make it available again to those who might have missed it.   \n\nHe has agreed to lead another FREE virtual group discussion for Chamber members next week. He has a system and the experience to show you how to generate more leads\, close more sales\, and the steps to take when things settle down to begin generating some immediate revenues with increased profit.\n\nThis 2-hour focus group will be held Tuesday starting at 2PM\, in front of your computer or smartphone. It will be very results-oriented\, with no theory and NO sales pitch\, with time allotted for questions\, masterminding solutions\, and general problem-solving.\n\nRegister here: https://buildyourbizprofits.com/webinar/2020-04-28/\n\nDownload a workbook that we will use at the meeting:   http://buildyourbizprofits.com/webinar/Biz-Survival-Strategies-Wkbk.pdf\n\n \n\nHope you can join us\, and find out how to start putting your business back to work for you.
X-ALT-DESC;FMTTYPE=text/html:As your Chamber of Commerce\, we are deeply concerned about the survival of ALL our businesses in Frankfort/ Franklin Co.\, and how we can help our Chamber members live through this pandemic.&nbsp\;<br />\n&nbsp\;<br />\nA Chamber member\, Kim Strohmeier\, who is a business coach specializing in business planning and marketing\, <span style="color:black\;">recently led a couple of virtual focus groups for the </span>Frankfort Chamber <span style="color:black\;">about how business&rsquo\; might survive this crisis\, and how they can actually improve the health of their business long-term. These focus groups were well-received with those business owners that attended\, and we wanted to make it available again to those who might have missed it.&nbsp\;&nbsp\;&nbsp\;</span><br />\nHe has agreed to lead another FREE virtual group discussion for Chamber members next week. He has a system and the experience to show you how to generate more leads\, close more sales\, and the steps to take when things settle down to begin generating some immediate revenues with increased profit.<br />\nThis 2-hour focus group will be held Tuesday starting at 2PM\, in front of your computer or smartphone. It will be very results-oriented\, with no theory and NO sales pitch\, with time allotted for questions\, masterminding solutions\, and general problem-solving.<br />\nRegister here: <a href="https://buildyourbizprofits.com/webinar/2020-04-28/">https://buildyourbizprofits.com/webinar/2020-04-28/</a><br />\nDownload a workbook that we will use at the meeting: &nbsp\;&nbsp\;<a href="http://buildyourbizprofits.com/webinar/Biz-Survival-Strategies-Wkbk.pdf">http://buildyourbizprofits.com/webinar/Biz-Survival-Strategies-Wkbk.pdf</a><br />\n&nbsp\;<br />\nHope you can join us\, and find out how to start putting your business back to work for you.
LOCATION:Zoom - Register here: https://buildyourbizprofits.com/webinar/2020-04-28/
UID:e.1786.3530
SEQUENCE:3
DTSTAMP:20260424T164252Z
URL:https://members.frankfortky.info/events/details/time-to-get-back-to-work-3530
END:VEVENT

END:VCALENDAR
