BEGIN:VCALENDAR
VERSION:2.0
PRODID:-//ChamberMaster//Event Calendar 2.0//EN
METHOD:PUBLISH
X-PUBLISHED-TTL:P3D
REFRESH-INTERVAL:P3D
CALSCALE:GREGORIAN
BEGIN:VEVENT
DTSTART:20211114T000000Z
DTEND:20211114T013000Z
X-MICROSOFT-CDO-ALLDAYEVENT:FALSE
SUMMARY:Tipsy Town Tales
DESCRIPTION:This ain't your normal pub crawl! This walking tour will go from KHS to three of Frankfort's finest taverns as we drink our way through the bawdy & brazen moments of the past. This exciting program will lure you in with stories of vice and disorderly conduct\, uncovering the seedy side of our Capital City. Great for a night out with friends! Alcohol is optional (of course)\, and if you prefer to sip as you walk\, all three taverns participate in Frankfort's new MIX District. This program is limited to guests 21 and over. Cost does not include drinks\, which can be purchased at the local establishments on the tour.
X-ALT-DESC;FMTTYPE=text/html:This ain&rsquo\;t your normal pub crawl! This walking tour will go from KHS to three of Frankfort&rsquo\;s finest taverns as we drink our way through the bawdy &amp\; brazen moments of the past. This exciting program will lure you in with stories of vice and disorderly conduct\, uncovering the seedy side of our Capital City. Great for a night out with friends! Alcohol is optional (of course)\, and if you prefer to sip as you walk\, all three taverns participate in Frankfort&rsquo\;s new MIX District. This program is limited to guests 21 and over. Cost does not include drinks\, which can be purchased at the local establishments on the tour.
LOCATION:Thomas D. Clark Center for Kentucky History 100 W. Broadway Frankfort\, KY 40601
UID:e.1786.3611
SEQUENCE:3
DTSTAMP:20260423T071551Z
URL:https://members.frankfortky.info/events/details/tipsy-town-tales-11-13-2021-3611
END:VEVENT

END:VCALENDAR
