BEGIN:VCALENDAR
VERSION:2.0
PRODID:-//ChamberMaster//Event Calendar 2.0//EN
METHOD:PUBLISH
X-PUBLISHED-TTL:P3D
REFRESH-INTERVAL:P3D
CALSCALE:GREGORIAN
BEGIN:VEVENT
DTSTART:20150227T003000Z
DTEND:20150227T033000Z
X-MICROSOFT-CDO-ALLDAYEVENT:FALSE
SUMMARY:To Kill a Mockingbird
DESCRIPTION:Come see the Hollywood classic To Kill a Mockingbird starring Gregory Peck.
X-ALT-DESC;FMTTYPE=text/html:Come see the Hollywood classic&nbsp\;<em>To Kill a Mockingbird</em>&nbsp\;starring Gregory Peck.
LOCATION:The Grand Theatre 308 St. Clair St.\, Frankfort\, KY
UID:e.1786.61
SEQUENCE:3
DTSTAMP:20260424T085726Z
URL:https://members.frankfortky.info/events/details/to-kill-a-mockingbird-02-26-2015-61
END:VEVENT

END:VCALENDAR
