BEGIN:VCALENDAR
VERSION:2.0
PRODID:-//ChamberMaster//Event Calendar 2.0//EN
METHOD:PUBLISH
X-PUBLISHED-TTL:P3D
REFRESH-INTERVAL:P3D
CALSCALE:GREGORIAN
BEGIN:VEVENT
DTSTART:20181031T210000Z
DTEND:20181101T000000Z
X-MICROSOFT-CDO-ALLDAYEVENT:FALSE
SUMMARY:Trick or Treat at Blue Grass Stockyards
DESCRIPTION:Trick or Treat October 31st 5 to 8 pm A fun all-indoor Halloween Night at Blue Grass Stockyards! Trick or Treat\, fun kids activities\, prizes for all kids of all ages! The businesses and neighbors of Blue Grass Stockyards are excited to celebrate our second annual Trick or Trick night with you. Doors open 5 pm to 8 pm. 4561 Iron Works Pike\, Lexington\, KY 40511. More info call 859-255-7701.
X-ALT-DESC;FMTTYPE=text/html:Trick or Treat October 31st 5 to 8 pm A fun all-indoor Halloween Night at Blue Grass Stockyards! Trick or Treat\, fun kids activities\, prizes for all kids of all ages! The businesses and neighbors of Blue Grass Stockyards are excited to celebrate our second annual Trick or Trick night with you. Doors open 5 pm to 8 pm. 4561 Iron Works Pike\, Lexington\, KY 40511. More info call 859-255-7701.
LOCATION:Blue Grass Stockyards
UID:e.1786.3028
SEQUENCE:3
DTSTAMP:20260425T233245Z
URL:https://members.frankfortky.info/events/details/trick-or-treat-at-blue-grass-stockyards-3028
END:VEVENT

END:VCALENDAR
