BEGIN:VCALENDAR
VERSION:2.0
PRODID:-//ChamberMaster//Event Calendar 2.0//EN
METHOD:PUBLISH
X-PUBLISHED-TTL:P3D
REFRESH-INTERVAL:P3D
CALSCALE:GREGORIAN
BEGIN:VEVENT
DTSTART:20200302T200000Z
DTEND:20200303T000000Z
X-MICROSOFT-CDO-ALLDAYEVENT:FALSE
SUMMARY:U.S. Census Job Fair
DESCRIPTION:Learn about job opportunities with the U.S. Census. Flexible Hours.
X-ALT-DESC;FMTTYPE=text/html:<span style="color: rgb(51\, 51\, 51)\; font-family: sans-serif\, Arial\, Verdana\, &quot\;Trebuchet MS&quot\;\; font-size: 13px\; background-color: rgb(255\, 255\, 255)\;">Learn about job opportunities with the U.S. Census. Flexible Hours.</span>
LOCATION:Paul Sawyier Public Library 319 Wapping Street
UID:e.1786.3347
SEQUENCE:3
DTSTAMP:20260424T191207Z
URL:https://members.frankfortky.info/events/details/u-s-census-job-fair-3347
END:VEVENT

END:VCALENDAR
