BEGIN:VCALENDAR
VERSION:2.0
PRODID:-//ChamberMaster//Event Calendar 2.0//EN
METHOD:PUBLISH
X-PUBLISHED-TTL:P3D
REFRESH-INTERVAL:P3D
CALSCALE:GREGORIAN
BEGIN:VEVENT
DTSTART:20191205T190000Z
DTEND:20191205T210000Z
X-MICROSOFT-CDO-ALLDAYEVENT:FALSE
SUMMARY:Understanding Scams & Spams
DESCRIPTION:Understanding Scams & Spams\n\nThursday\, December 5 @ 2:00pm\n\nRiver Room\n\n \n\nJoin PSPL's IT Manager\, Rob McCoy\, as he discusses how to spot email/telephone scams and avoid becoming a victim.\n\n \n\nPlease register online or at the library. For more information\, contact Diane Dehoney at 352-2665 x108 or diane@pspl.org.\n\n \n\nRegister: http://bit.ly/ScamsAndSpams1
X-ALT-DESC;FMTTYPE=text/html:<p style="margin:0in\;margin-bottom:.0001pt\;background:white"><b><span style="font-family:&quot\;Calibri&quot\;\,&quot\;sans-serif&quot\;">Understanding Scams &amp\; Spams<br />\nThursday\, December 5 @ 2:00pm<br />\nRiver Room<o:p></o:p></span></b></p>\n\n<p style="margin:0in\;margin-bottom:.0001pt\;background:white"><span style="font-family:&quot\;Calibri&quot\;\,&quot\;sans-serif&quot\;"><o:p>&nbsp\;</o:p></span></p>\n\n<p style="margin:0in\;margin-bottom:.0001pt\;background:white"><span style="font-family:&quot\;Calibri&quot\;\,&quot\;sans-serif&quot\;">Join PSPL&rsquo\;s IT Manager\, Rob McCoy\, as he discusses how to spot email/telephone scams and avoid becoming a victim.<o:p></o:p></span></p>\n\n<p style="margin:0in\;margin-bottom:.0001pt\;background:white\;box-sizing: inherit\;\nfont-variant-ligatures: normal\;font-variant-caps: normal\;orphans: 2\;widows: 2\;\n-webkit-text-stroke-width: 0px\;text-decoration-style: initial\;text-decoration-color: initial\;\nword-spacing:0px"><span style="font-family:&quot\;Calibri&quot\;\,&quot\;sans-serif&quot\;"><o:p>&nbsp\;</o:p></span></p>\n\n<p style="margin:0in\;margin-bottom:.0001pt\;background:white"><span style="font-family:&quot\;Calibri&quot\;\,&quot\;sans-serif&quot\;">Please register online or at the library. For more information\, contact Diane Dehoney at 352-2665 x108 or&nbsp\;<a href="mailto:diane@pspl.org"><span style="color:windowtext">diane@pspl.org</span></a>.<o:p></o:p></span></p>\n\n<p style="margin:0in\;margin-bottom:.0001pt\;background:white\;box-sizing: inherit\;\nfont-variant-ligatures: normal\;font-variant-caps: normal\;orphans: 2\;widows: 2\;\n-webkit-text-stroke-width: 0px\;text-decoration-style: initial\;text-decoration-color: initial\;\nword-spacing:0px"><span style="font-family:&quot\;Calibri&quot\;\,&quot\;sans-serif&quot\;"><o:p>&nbsp\;</o:p></span></p>\n\n<p style="margin:0in\;margin-bottom:.0001pt\;background:white"><span style="font-family:&quot\;Calibri&quot\;\,&quot\;sans-serif&quot\;">Register:&nbsp\;<a href="http://bit.ly/ScamsAndSpams1"><span style="color:windowtext">http://bit.ly/ScamsAndSpams1</span></a><o:p></o:p></span></p>\n
LOCATION:Paul Sawyier Public Library 319 Wapping Street Frankfort
UID:e.1786.3330
SEQUENCE:3
DTSTAMP:20260425T001118Z
URL:https://members.frankfortky.info/events/details/understanding-scams-spams-3330
END:VEVENT

END:VCALENDAR
