BEGIN:VCALENDAR
VERSION:2.0
PRODID:-//ChamberMaster//Event Calendar 2.0//EN
METHOD:PUBLISH
X-PUBLISHED-TTL:P3D
REFRESH-INTERVAL:P3D
CALSCALE:GREGORIAN
BEGIN:VEVENT
DTSTART:20180713T230000Z
DTEND:20180714T020000Z
X-MICROSOFT-CDO-ALLDAYEVENT:FALSE
SUMMARY:United Bank - Downtown Frankfort Summer Concert Series
DESCRIPTION:Bring your lawn chairs to the Old Capital Lawn for FREE live music featuring the Matt Smith Band.
X-ALT-DESC;FMTTYPE=text/html:<span style="font-family: Arial\, Cambria\, Helvetica\, sans-serif\; font-size: 12px\;">Bring your lawn chairs to the Old Capital Lawn for FREE live music featuring the Matt Smith Band.&nbsp\;</span>
LOCATION:Old Capital Lawn 300 West Broadway
UID:e.1786.2971
SEQUENCE:3
DTSTAMP:20260426T041348Z
URL:https://members.frankfortky.info/events/details/united-bank-downtown-frankfort-summer-concert-series-2971
END:VEVENT

END:VCALENDAR
