BEGIN:VCALENDAR
VERSION:2.0
PRODID:-//ChamberMaster//Event Calendar 2.0//EN
METHOD:PUBLISH
X-PUBLISHED-TTL:P3D
REFRESH-INTERVAL:P3D
CALSCALE:GREGORIAN
BEGIN:VEVENT
DTSTART:20210330T223000Z
DTEND:20210330T233000Z
X-MICROSOFT-CDO-ALLDAYEVENT:FALSE
SUMMARY:VIRTUAL FAMILY GAME NIGHT: SOUNDS OF KENTUCKY BINGO
DESCRIPTION:Are you ready for the ultimate Kentucky History family game night? Gather the family around the Zoom screen and join us for a virtual game designed to be fun for ages 5 to 105! This month\, experience Kentucky history through sound by competing for prizes in a special version of Bingo. Each clue includes an audio clip that matches up with the words and images on a bingo board that we'll send to you in advance. Please register by 2 pm ET on March 30 and you will receive a confirmation email with Zoom login information and printable Bingo cards. Please note\, this is an interactive program and is best experienced from a device with video and audio capabilities. Questions? Email khseducation@ky.gov. Ages: Families (great for families with kids ages 5-14!) Location: Virtual   ZOOM Cost: FREE for members\, Non-members: $5/team.
X-ALT-DESC;FMTTYPE=text/html:Are you ready for the ultimate Kentucky History family game night? Gather the family around the Zoom screen and join us for a virtual game designed to be fun for ages 5 to 105! This month\, experience Kentucky history through sound by competing for prizes in a special version of Bingo. Each clue includes an audio clip that matches up with the words and images on a bingo board that we&rsquo\;ll send to you in advance. Please register by 2 pm ET on March 30 and you will receive a confirmation email with Zoom login information and printable Bingo cards. Please note\, this is an interactive program and is best experienced from a device with video and audio capabilities. Questions? Email khseducation@ky.gov. Ages: Families (great for families with kids ages 5-14!) Location: Virtual &ndash\; ZOOM Cost: FREE for members\, Non-members: $5/team.
LOCATION:Virtual
UID:e.1786.3580
SEQUENCE:3
DTSTAMP:20260423T215258Z
URL:https://members.frankfortky.info/events/details/virtual-family-game-night-sounds-of-kentucky-bingo-3580
END:VEVENT

END:VCALENDAR
