BEGIN:VCALENDAR
VERSION:2.0
PRODID:-//ChamberMaster//Event Calendar 2.0//EN
METHOD:PUBLISH
X-PUBLISHED-TTL:P3D
REFRESH-INTERVAL:P3D
CALSCALE:GREGORIAN
BEGIN:VEVENT
DTSTART:20201002T160000Z
DTEND:20201002T170000Z
X-MICROSOFT-CDO-ALLDAYEVENT:FALSE
SUMMARY:Virtual First Friday: Choosing a President: Understanding the Electoral College\, with Dr. Carolyn Dupont
DESCRIPTION:This event is presented in partnership with the Kentucky Humanities Council. We thank the KHC and their funders for their support. Since the hard-fought Presidential election of 2016\, evaluation of the Electoral College has been a hotly contested issue. This institution has evoked controversy since its origins at the Constitutional Convention in 1787\, and numerous myths about its history persist into the present day. As we look toward the 2020 Presidential election\, join us via Zoom* as Dr. Carolyn Dupont\, Professor of History at Eastern Kentucky University\, shares the origins of the Electoral College and discusses its changes. Dr. Dupont will identify and challenge some of the most prevalent misconceptions about Electoral College history. Become a more informed citizen\, and join the virtual conversation! Please register here\, and you will receive information on how to connect. The registration deadline is 10 am EST on the day of the event. Questions? Contact us at 502-782-8070 or KHSeducation@ky.gov.
X-ALT-DESC;FMTTYPE=text/html:This event is presented in partnership with the Kentucky Humanities Council. We thank the KHC and their funders for their support. Since the hard-fought Presidential election of 2016\, evaluation of the Electoral College has been a hotly contested issue. This institution has evoked controversy since its origins at the Constitutional Convention in 1787\, and numerous myths about its history persist into the present day. As we look toward the 2020 Presidential election\, join us via Zoom* as Dr. Carolyn Dupont\, Professor of History at Eastern Kentucky University\, shares the origins of the Electoral College and discusses its changes. Dr. Dupont will identify and challenge some of the most prevalent misconceptions about Electoral College history. Become a more informed citizen\, and join the virtual conversation! Please register here\, and you will receive information on how to connect. The registration deadline is 10 am EST on the day of the event. Questions? Contact us at 502-782-8070 or KHSeducation@ky.gov.
LOCATION:This is a Virtual Event!
UID:e.1786.3547
SEQUENCE:3
DTSTAMP:20260424T090441Z
URL:https://members.frankfortky.info/events/details/virtual-first-friday-choosing-a-president-understanding-the-electoral-college-with-dr-carolyn-dupont-3547
END:VEVENT

END:VCALENDAR
