BEGIN:VCALENDAR
VERSION:2.0
PRODID:-//ChamberMaster//Event Calendar 2.0//EN
METHOD:PUBLISH
X-PUBLISHED-TTL:P3D
REFRESH-INTERVAL:P3D
CALSCALE:GREGORIAN
BEGIN:VEVENT
DTSTART:20201106T170000Z
DTEND:20201106T180000Z
X-MICROSOFT-CDO-ALLDAYEVENT:FALSE
SUMMARY:Virtual First Friday: Kentuckians at Pearl Harbor: Stories from the Day of Infamy\, with Berry Craig
DESCRIPTION:For a generation of Americans\, December 7\, 1941\, was a pivotal moment\, a day that drastically altered the course of many lives as the country responded to the surprise attack on Pearl Harbor. Join us via Zoom* as historian Berry Craig shares the "untold\, forgotten or little-known stories" of Kentuckians who experienced this "Day of Infamy." Craig's research includes soldiers at Pearl Harbor\, civilians on the home front\, and the attack's aftermath in the Bluegrass as Kentuckians sprang into action. Come and join the conversation!
X-ALT-DESC;FMTTYPE=text/html:For a generation of Americans\, December 7\, 1941\, was a pivotal moment\, a day that drastically altered the course of many lives as the country responded to the surprise attack on Pearl Harbor. Join us via Zoom* as historian Berry Craig shares the &ldquo\;untold\, forgotten or little-known stories&rdquo\; of Kentuckians who experienced this &ldquo\;Day of Infamy.&rdquo\; Craig&rsquo\;s research includes soldiers at Pearl Harbor\, civilians on the home front\, and the attack&rsquo\;s aftermath in the Bluegrass as Kentuckians sprang into action. Come and join the conversation!
LOCATION:Virtual Event - Zoom
UID:e.1786.3560
SEQUENCE:3
DTSTAMP:20260424T053453Z
URL:https://members.frankfortky.info/events/details/virtual-first-friday-kentuckians-at-pearl-harbor-stories-from-the-day-of-infamy-with-berry-craig-3560
END:VEVENT

END:VCALENDAR
