BEGIN:VCALENDAR
VERSION:2.0
PRODID:-//ChamberMaster//Event Calendar 2.0//EN
METHOD:PUBLISH
X-PUBLISHED-TTL:P3D
REFRESH-INTERVAL:P3D
CALSCALE:GREGORIAN
BEGIN:VEVENT
DTSTART:20200616T000000Z
DTEND:20200619T210000Z
X-MICROSOFT-CDO-ALLDAYEVENT:FALSE
SUMMARY:Virtual Summer Camp - Share History: Family Fun
DESCRIPTION:Description: Tell your family story the way that Kentucky families have been doing so for generations! Tune in to daily virtual tours of family-related artifacts in our museum collection\, create a scrapbook of memories\, paint a family tree\, talk to family members about their traditions\, design a new family heirloom\, and invent some new traditions for the future. Virtual summer camps will come with a "camp kit" full of crafts and activities based on a weekly theme\, along with access to a wide variety of related digital resources and supplementary materials. Camp kits generally include all activity materials that are not readily found around the home. Our museum educators will meet with campers daily from 10:00 a.m. to 11:00 a.m. via Google Classroom to lead activity instruction and virtually tour the museums. Kits can be picked up at the History Center for FREE or shipped out for an additional fee. Please direct all questions about camp to Julie Sawnor\, Camp Coordinator.
X-ALT-DESC;FMTTYPE=text/html:Description: Tell your family story the way that Kentucky families have been doing so for generations! Tune in to daily virtual tours of family-related artifacts in our museum collection\, create a scrapbook of memories\, paint a family tree\, talk to family members about their traditions\, design a new family heirloom\, and invent some new traditions for the future. Virtual summer camps will come with a &ldquo\;camp kit&rdquo\; full of crafts and activities based on a weekly theme\, along with access to a wide variety of related digital resources and supplementary materials. Camp kits generally include all activity materials that are not readily found around the home. Our museum educators will meet with campers daily from 10:00 a.m. to 11:00 a.m. via Google Classroom to lead activity instruction and virtually tour the museums. Kits can be picked up at the History Center for FREE or shipped out for an additional fee. Please direct all questions about camp to Julie Sawnor\, Camp Coordinator.
LOCATION:This is a virtual event hosted by the Kentucky Historical Society.
UID:e.1786.3535
SEQUENCE:3
DTSTAMP:20260424T134229Z
URL:https://members.frankfortky.info/events/details/virtual-summer-camp-share-history-family-fun-3535
END:VEVENT

END:VCALENDAR
