BEGIN:VCALENDAR
VERSION:2.0
PRODID:-//ChamberMaster//Event Calendar 2.0//EN
METHOD:PUBLISH
X-PUBLISHED-TTL:P3D
REFRESH-INTERVAL:P3D
CALSCALE:GREGORIAN
BEGIN:VEVENT
DTSTART:20200622T120000Z
DTEND:20200626T210000Z
X-MICROSOFT-CDO-ALLDAYEVENT:FALSE
SUMMARY:Virtual Summer Camp - Visit History: KY Hot Spots
DESCRIPTION:Description: Set out on a virtual adventure through the Commonwealth and visit famous sites that can only be found here in Kentucky! Each day\, we will visit a new "historic hotspot" in our state\, completing different games and activities along the way. By the end of the week\, we'll have a passport full of stamps that document our journey spanning through Kentucky's towns\, forests\, mountains\, farms\, and waterways. Virtual summer camps will come with a "camp kit" full of crafts and activities based on a weekly theme\, along with access to a wide variety of related digital resources and supplementary materials. Camp kits generally include all activity materials that are not readily found around the home. Our museum educators will meet with campers daily from 10:00 a.m. to 11:00 a.m. via Google Classroom to lead activity instruction and virtually tour the museums. Kits can be picked up at the History Center for FREE or shipped out for an additional fee. Please direct all questions about camp to Julie Sawnor\, Camp Coordinator.
X-ALT-DESC;FMTTYPE=text/html:Description: Set out on a virtual adventure through the Commonwealth and visit famous sites that can only be found here in Kentucky! Each day\, we will visit a new &ldquo\;historic hotspot&rdquo\; in our state\, completing different games and activities along the way. By the end of the week\, we&rsquo\;ll have a passport full of stamps that document our journey spanning through Kentucky&rsquo\;s towns\, forests\, mountains\, farms\, and waterways. Virtual summer camps will come with a &ldquo\;camp kit&rdquo\; full of crafts and activities based on a weekly theme\, along with access to a wide variety of related digital resources and supplementary materials. Camp kits generally include all activity materials that are not readily found around the home. Our museum educators will meet with campers daily from 10:00 a.m. to 11:00 a.m. via Google Classroom to lead activity instruction and virtually tour the museums. Kits can be picked up at the History Center for FREE or shipped out for an additional fee. Please direct all questions about camp to Julie Sawnor\, Camp Coordinator.
LOCATION:This is a virtual event hosted by the Kentucky Historical Society.
UID:e.1786.3536
SEQUENCE:3
DTSTAMP:20260424T152713Z
URL:https://members.frankfortky.info/events/details/virtual-summer-camp-visit-history-ky-hot-spots-3536
END:VEVENT

END:VCALENDAR
