BEGIN:VCALENDAR
VERSION:2.0
PRODID:-//ChamberMaster//Event Calendar 2.0//EN
METHOD:PUBLISH
X-PUBLISHED-TTL:P3D
REFRESH-INTERVAL:P3D
CALSCALE:GREGORIAN
BEGIN:VEVENT
DTSTART:20200915T170000Z
DTEND:20200915T173000Z
X-MICROSOFT-CDO-ALLDAYEVENT:FALSE
SUMMARY:Virtual Tour: Bourbon Connections in the Civil War Governors of Kentucky
DESCRIPTION:Few things are more Kentuckian than bourbon. Chuck Welsko and Carl Creason will share the intersection of famous bourbon pioneers (such as E. H. Taylor and W. L. Weller) and their Civil War experiences\, by exploring where they appear in the documents of the Civil War Governors of Kentucky Digital Documentary Edition. Presented LIVE on our Facebook page.
X-ALT-DESC;FMTTYPE=text/html:Few things are more Kentuckian than bourbon. Chuck Welsko and Carl Creason will share the intersection of famous bourbon pioneers (such as E. H. Taylor and W. L. Weller) and their Civil War experiences\, by exploring where they appear in the documents of the Civil War Governors of Kentucky Digital Documentary Edition. Presented LIVE on our Facebook page.
LOCATION:This is a VIRTUAL EVENT!
UID:e.1786.3545
SEQUENCE:3
DTSTAMP:20260424T090612Z
URL:https://members.frankfortky.info/events/details/virtual-tour-bourbon-connections-in-the-civil-war-governors-of-kentucky-3545
END:VEVENT

END:VCALENDAR
