BEGIN:VCALENDAR
VERSION:2.0
PRODID:-//ChamberMaster//Event Calendar 2.0//EN
METHOD:PUBLISH
X-PUBLISHED-TTL:P3D
REFRESH-INTERVAL:P3D
CALSCALE:GREGORIAN
BEGIN:VEVENT
DTSTART:20200417T180000Z
DTEND:20200417T190000Z
X-MICROSOFT-CDO-ALLDAYEVENT:FALSE
SUMMARY:Webinar - Lead Through Adversity & Achieve More @ 2
DESCRIPTION:We are living in a time where we are being challenged in ways never seen before. This is not a time for fear and anxiety\, nor is it a time to revert to "trial & error" ways. Instead\, it is a perfect time to connect with experts in business to focus\, prioritize\, and innovate.\n\nPlease join me in a timely discussion on where the business community is today\, what we have learned\, and what the critical next steps are in seizing the huge opportunities of the future. You are either disrupting or being disrupted. Which one do you prefer?\n\nLook forward to meeting/talking with you on this powerful webinar series scheduled on April 17\, 2020 at 7:30 & 2:00 EDT. I'm excited to help you gain clarity\, optimize your business model\, accelerate your marketing/sales to generate revenue growth\, and SOAR your business to HIGHER altitude   Engage. Execute. SOAR.
X-ALT-DESC;FMTTYPE=text/html:<span style="color: rgb(51\, 51\, 51)\; font-family: sans-serif\, Arial\, Verdana\, &quot\;Trebuchet MS&quot\;\; font-size: 13px\; background-color: rgb(255\, 255\, 255)\;">We are living in a time where we are being challenged in ways never seen before. This is not a time for fear and anxiety\, nor is it a time to revert to &ldquo\;trial &amp\; error&rdquo\; ways. Instead\, it is a perfect time to connect with experts in business to focus\, prioritize\, and innovate.</span><br style="color: rgb(51\, 51\, 51)\; font-family: sans-serif\, Arial\, Verdana\, &quot\;Trebuchet MS&quot\;\; font-size: 13px\;" />\n<span style="color: rgb(51\, 51\, 51)\; font-family: sans-serif\, Arial\, Verdana\, &quot\;Trebuchet MS&quot\;\; font-size: 13px\; background-color: rgb(255\, 255\, 255)\;">Please join me in a timely discussion on where the business community is today\, what we have learned\, and what the critical next steps are in seizing the huge opportunities of the future. You are either disrupting or being disrupted. Which one do you prefer?</span><br style="color: rgb(51\, 51\, 51)\; font-family: sans-serif\, Arial\, Verdana\, &quot\;Trebuchet MS&quot\;\; font-size: 13px\;" />\n<span style="color: rgb(51\, 51\, 51)\; font-family: sans-serif\, Arial\, Verdana\, &quot\;Trebuchet MS&quot\;\; font-size: 13px\; background-color: rgb(255\, 255\, 255)\;">Look forward to meeting/talking with you on this powerful webinar series scheduled on April 17\, 2020 at 7:30 &amp\; 2:00 EDT. I&rsquo\;m excited to help you gain clarity\, optimize your business model\, accelerate your marketing/sales to generate revenue growth\, and SOAR your business to HIGHER altitude &hellip\; Engage. Execute. SOAR.&nbsp\;</span>
LOCATION:ZOOM Webinar
UID:e.1786.3529
SEQUENCE:3
DTSTAMP:20260424T164554Z
URL:https://members.frankfortky.info/events/details/webinar-lead-through-adversity-achieve-more-2-3529
END:VEVENT

END:VCALENDAR
