BEGIN:VCALENDAR
VERSION:2.0
PRODID:-//ChamberMaster//Event Calendar 2.0//EN
METHOD:PUBLISH
X-PUBLISHED-TTL:P3D
REFRESH-INTERVAL:P3D
CALSCALE:GREGORIAN
BEGIN:VEVENT
DTSTART:20260529T220000Z
DTEND:20260530T000000Z
X-MICROSOFT-CDO-ALLDAYEVENT:FALSE
SUMMARY:West Sixth Farm Night Out - Benefiting LIFE House For Animals
DESCRIPTION:You're Invited! Come hang out with some cool LIFE House volunteers and supporters and some even COOLER adoptable dogs at the West Sixth Farm Night Out at West Sixth Farm. Date: Friday\, May 29th\, 2026 Time: 6-8 PM Location: @ West Sixth Farm\, 4495 Shadrick Ferry Rd\, Frankfort\, KY 40601 6% of the nights profits will go to benefit the LIFE House For Animals. We are accepting donations to our Emergency Pet Food Pantry that night as well. Name brand dog food\, name brand cat food\, and cat litter are our biggest needs.
X-ALT-DESC;FMTTYPE=text/html:You&#39\;re Invited! Come hang out with some cool LIFE House volunteers and supporters and some even COOLER adoptable dogs at the West Sixth Farm Night Out at West Sixth Farm. Date: Friday\, May 29th\, 2026 Time: 6-8 PM Location: @ West Sixth Farm\, 4495 Shadrick Ferry Rd\, Frankfort\, KY 40601 6% of the nights profits will go to benefit the LIFE House For Animals. We are accepting donations to our Emergency Pet Food Pantry that night as well. Name brand dog food\, name brand cat food\, and cat litter are our biggest needs.
LOCATION:West Sixth Farm 4495 Shadrick Ferry Rd Frankfort\, KY 40601
UID:e.1786.6609
SEQUENCE:3
DTSTAMP:20260423T141645Z
URL:https://members.frankfortky.info/events/details/west-sixth-farm-night-out-benefiting-life-house-for-animals-6609
END:VEVENT

END:VCALENDAR
