BEGIN:VCALENDAR
VERSION:2.0
PRODID:-//ChamberMaster//Event Calendar 2.0//EN
METHOD:PUBLISH
X-PUBLISHED-TTL:P3D
REFRESH-INTERVAL:P3D
CALSCALE:GREGORIAN
BEGIN:VEVENT
DTSTART:20191212T233000Z
DTEND:20191213T010000Z
X-MICROSOFT-CDO-ALLDAYEVENT:FALSE
SUMMARY:Wilde Life
DESCRIPTION:Wilde Life\n\nThursday\, December 12 @ 6:30pm\n\nRiver Room\n\n \n\nOscar Wilde was an international literary star known for his wit\, wisdom\, and love of life. Join us as we take a look at his life at the height of his career and read The Importance of Being Earnest.\n\n \n\nPlease register online before stopping by the Check Out Desk to pick up a copy of the book. For more information\, contact Ernie Dixon at 352-2665 x109 or ernie@pspl.org.\n\n \n\nRegister: http://bit.ly/WildeLife2
X-ALT-DESC;FMTTYPE=text/html:<p style="margin:0in\;margin-bottom:.0001pt\;background:white"><b><span style="font-family:&quot\;Calibri&quot\;\,&quot\;sans-serif&quot\;">Wilde Life<br />\nThursday\, December 12 @ 6:30pm<br />\nRiver Room<o:p></o:p></span></b></p>\n\n<p style="margin:0in\;margin-bottom:.0001pt\;background:white"><span style="font-family:&quot\;Calibri&quot\;\,&quot\;sans-serif&quot\;"><o:p>&nbsp\;</o:p></span></p>\n\n<p style="margin:0in\;margin-bottom:.0001pt\;background:white"><span style="font-family:&quot\;Calibri&quot\;\,&quot\;sans-serif&quot\;">Oscar Wilde was an international literary star known for his wit\, wisdom\, and love of life. Join us as we take a look at his life at the height of his career and read&nbsp\;<em><span style="font-family:&quot\;Calibri&quot\;\,&quot\;sans-serif&quot\;">The Importance of Being Earnest</span></em>.<o:p></o:p></span></p>\n\n<p style="margin:0in\;margin-bottom:.0001pt\;background:white\;box-sizing: inherit\;\nfont-variant-ligatures: normal\;font-variant-caps: normal\;orphans: 2\;widows: 2\;\n-webkit-text-stroke-width: 0px\;text-decoration-style: initial\;text-decoration-color: initial\;\nword-spacing:0px"><span style="font-family:&quot\;Calibri&quot\;\,&quot\;sans-serif&quot\;"><o:p>&nbsp\;</o:p></span></p>\n\n<p style="margin:0in\;margin-bottom:.0001pt\;background:white"><span style="font-family:&quot\;Calibri&quot\;\,&quot\;sans-serif&quot\;">Please register online before stopping by the Check Out Desk to pick up a copy of the book. For more information\, contact Ernie Dixon at 352-2665 x109 or&nbsp\;<a href="mailto:ernie@pspl.org"><span style="color:windowtext">ernie@pspl.org</span></a>.<o:p></o:p></span></p>\n\n<p style="margin:0in\;margin-bottom:.0001pt\;background:white\;box-sizing: inherit\;\nfont-variant-ligatures: normal\;font-variant-caps: normal\;orphans: 2\;widows: 2\;\n-webkit-text-stroke-width: 0px\;text-decoration-style: initial\;text-decoration-color: initial\;\nword-spacing:0px"><span style="font-family:&quot\;Calibri&quot\;\,&quot\;sans-serif&quot\;"><o:p>&nbsp\;</o:p></span></p>\n\n<p style="margin:0in\;margin-bottom:.0001pt\;background:white"><span style="font-family:&quot\;Calibri&quot\;\,&quot\;sans-serif&quot\;">Register:&nbsp\;<a href="http://bit.ly/WildeLife2"><span style="color:windowtext">http://bit.ly/WildeLife2</span></a><o:p></o:p></span></p>\n
LOCATION:
UID:e.1786.3335
SEQUENCE:3
DTSTAMP:20260425T001031Z
URL:https://members.frankfortky.info/events/details/wilde-life-3335
END:VEVENT

END:VCALENDAR
