BEGIN:VCALENDAR
VERSION:2.0
PRODID:-//ChamberMaster//Event Calendar 2.0//EN
METHOD:PUBLISH
X-PUBLISHED-TTL:P3D
REFRESH-INTERVAL:P3D
CALSCALE:GREGORIAN
BEGIN:VEVENT
DTSTART:20260423T160000Z
DTEND:20260423T233000Z
X-MICROSOFT-CDO-ALLDAYEVENT:FALSE
SUMMARY:WINE Pull ONLY
DESCRIPTION:
X-ALT-DESC;FMTTYPE=text/html:
LOCATION:This is $20 for WINE PULL ONLY! There are a very LIMITED amount available. YOU WILL RECEIVE A RED TICKET WHEN YOU CHECK IN TONIGHT.
UID:e.1786.6611
SEQUENCE:3
DTSTAMP:20260423T214203Z
URL:https://members.frankfortky.info/events/details/wine-pull-only-6611
END:VEVENT

END:VCALENDAR
