BEGIN:VCALENDAR
VERSION:2.0
PRODID:-//ChamberMaster//Event Calendar 2.0//EN
METHOD:PUBLISH
X-PUBLISHED-TTL:P3D
REFRESH-INTERVAL:P3D
CALSCALE:GREGORIAN
BEGIN:VEVENT
DTSTART:20240907T150000Z
DTEND:20240907T160000Z
X-MICROSOFT-CDO-ALLDAYEVENT:FALSE
SUMMARY:Women at War
DESCRIPTION:Learn about the role of women in Kentucky's military history from the siege of Bryan's Station through modern times while viewing artifacts from Kentucky's military history. The tour will begin in the Kentucky Military History Museum and conclude with a highlights tour of our special exhibit: "Our Stories\, Our Service: Kentucky's Women Veterans." Location: Thomas D. Clark Center for Kentucky History 100 W. Broadway\, Frankfort\, KY 40601 Date/time: Saturday\, September 7\, 11-12 pm Admission Fee: $10 Non-Members\, $5 Members Register at: https://history.ky.gov/
X-ALT-DESC;FMTTYPE=text/html:Learn about the role of women in Kentucky&rsquo\;s military history from the siege of Bryan&rsquo\;s Station through modern times while viewing artifacts from Kentucky&rsquo\;s military history. The tour will begin in the Kentucky Military History Museum and conclude with a highlights tour of our special exhibit: &ldquo\;Our Stories\, Our Service: Kentucky&rsquo\;s Women Veterans.&rdquo\; Location: Thomas D. Clark Center for Kentucky History 100 W. Broadway\, Frankfort\, KY 40601 Date/time: Saturday\, September 7\, 11-12 pm Admission Fee: $10 Non-Members\, $5 Members Register at: https://history.ky.gov/
LOCATION:Thomas D. Clark Center for Kentucky History 100 W. Broadway\, Frankfort\, KY 40601
UID:e.1786.5477
SEQUENCE:3
DTSTAMP:20260419T150819Z
URL:https://members.frankfortky.info/events/details/women-at-war-09-07-2024-5477
END:VEVENT

END:VCALENDAR
