BEGIN:VCALENDAR
VERSION:2.0
PRODID:-//ChamberMaster//Event Calendar 2.0//EN
METHOD:PUBLISH
X-PUBLISHED-TTL:P3D
REFRESH-INTERVAL:P3D
CALSCALE:GREGORIAN
BEGIN:VEVENT
DTSTART:20200118T140000Z
DTEND:20200118T200000Z
X-MICROSOFT-CDO-ALLDAYEVENT:FALSE
SUMMARY:Work Party @ East Frankfort Park
DESCRIPTION:There are two workshops coming up (this Saturday and Thursday\, Jan. 30) where community members can get involved in removing invasive plants and protecting our land.  Stop by and help transform our local parks!\n\n\n\nJanuary 18 Work Party at East Frankfort Park!\n\nJoin The Habitat Workshop and RIP (Remove Invasives Partnership of Franklin County) at East Frankfort Park on Saturday\, Jan. 18 from 9 am-3 pm as we begin to transform the park woodland into a wildlife-friendly habitat. Our first step is removing the invasive plants that keep many of the area's native wildlife and native plants from using the park. Winter is one of the best seasons for this type of work\, and we're taking advantage of it. Professional biologists are leading the project\, so stop by and ask us about the restoration or bring gloves and loppers and help transform the park.\n\nPlease dress appropriately if you plan to work.  We will be meeting in the upper parking lot in the back.  Go in the park entrance and follow the signs.\n\n\n\nFor more info\, contact Jody Thompson - The Habitat Workshop\, Frankfort\, KY\, (502) 382-6604\n\nor Chris Schimmoeller\, RIP\, c.schimmoeller@gmail.com\, 502-226-5751\n\n\n\nWork Party to Remove Invasive Plants at Lakeview Park on Thursday\, January 30 at 3:30pm.\n\nThe Remove Invasives Partnership (RIP) of Franklin County\, the County Parks Department\, and Franklin County High School students will conduct a work party to remove invasive plants on Thursday\, January 30 at 3:30pm.  Participants will focus on removing invasive winter creeper from the trees along the border between the high school and Lakeview Park. \n\n Members of the school's FFA Club\, Environmental Club\, and  Beta Club will participate.  Students interested in participating should meet near the Carter House directly after school.  This event is open to the public.  Participants not arriving from the high school should arrive through the park's main entrance and park near the Carter House.
X-ALT-DESC;FMTTYPE=text/html:There are two workshops coming up (this Saturday and Thursday\, Jan. 30) where community members can get involved in removing invasive plants and protecting our land.&nbsp\; Stop by and help transform our local parks!<br />\n<br />\n<strong>January 18 Work Party at East Frankfort Park!</strong><br />\nJoin The Habitat Workshop and RIP (Remove Invasives Partnership of Franklin County) at East Frankfort Park on Saturday\, Jan. 18 from 9 am-3 pm as we begin to transform the park woodland into a wildlife-friendly habitat. Our first step is removing the invasive plants that keep many of the area&#39\;s native wildlife and native plants from using the park. Winter is one of the best seasons for this type of work\, and we&#39\;re taking advantage of it. Professional biologists are leading the project\, so stop by and ask us about the restoration or bring gloves and loppers and help transform the park.<br />\nPlease dress appropriately if you plan to work.&nbsp\; We will be meeting in the upper parking lot in the back.&nbsp\; Go in the park entrance and follow the signs.<br />\n<br />\nFor more info\, contact Jody Thompson - The Habitat Workshop\, Frankfort\, KY\, (502) 382-6604<br />\nor Chris Schimmoeller\, RIP\, c.schimmoeller@gmail.com\, 502-226-5751<br />\n<br />\n<strong>Work Party to Remove Invasive Plants at Lakeview Park on Thursday\, January 30 at 3:30pm.</strong><br />\nThe Remove Invasives Partnership (RIP) of Franklin County\, the County Parks Department\, and Franklin County High School students will conduct a work party to remove invasive plants on Thursday\, January 30 at 3:30pm.&nbsp\; Participants will focus on removing invasive winter creeper from the trees along the border between the high school and Lakeview Park.&nbsp\;<br />\n&nbsp\;Members of the school&#39\;s FFA Club\, Environmental Club\, and&nbsp\; Beta Club will participate.&nbsp\; Students interested in participating should meet near the Carter House directly after school.&nbsp\; This event is open to the public.&nbsp\; Participants not arriving from the high school should arrive through the park&#39\;s main entrance and park near the Carter House.
LOCATION:East Frankfort Park on January 18 Lakeview Park on January 30
UID:e.1786.3356
SEQUENCE:3
DTSTAMP:20260424T224529Z
URL:https://members.frankfortky.info/events/details/work-party-east-frankfort-park-3356
END:VEVENT

END:VCALENDAR
