BEGIN:VCALENDAR
VERSION:2.0
PRODID:-//ChamberMaster//Event Calendar 2.0//EN
METHOD:PUBLISH
X-PUBLISHED-TTL:P3D
REFRESH-INTERVAL:P3D
CALSCALE:GREGORIAN
BEGIN:VEVENT
DTSTART:20200130T203000Z
DTEND:20200130T230000Z
X-MICROSOFT-CDO-ALLDAYEVENT:FALSE
SUMMARY:Work Party to Remove Invasive Plants at Lakeiew Park
DESCRIPTION:Work Party to Remove Invasive Plants at Lakeview Park on Thursday\, January 30 at 3:30pm.\n\nThe Remove Invasives Partnership (RIP) of Franklin County\, the County Parks Department\, and Franklin County High School students will conduct a work party to remove invasive plants on Thursday\, January 30 at 3:30pm.  Participants will focus on removing invasive winter creeper from the trees along the border between the high school and Lakeview Park. \n\n Members of the school's FFA Club\, Environmental Club\, and  Beta Club will participate.  Students interested in participating should meet near the Carter House directly after school.  This event is open to the public.  Participants not arriving from the high school should arrive through the park's main entrance and park near the Carter House.
X-ALT-DESC;FMTTYPE=text/html:Work Party to Remove Invasive Plants at Lakeview Park on Thursday\, January 30 at 3:30pm.<br />\nThe Remove Invasives Partnership (RIP) of Franklin County\, the County Parks Department\, and Franklin County High School students will conduct a work party to remove invasive plants on Thursday\, January 30 at 3:30pm.&nbsp\; Participants will focus on removing invasive winter creeper from the trees along the border between the high school and Lakeview Park.&nbsp\;<br />\n&nbsp\;Members of the school&#39\;s FFA Club\, Environmental Club\, and&nbsp\; Beta Club will participate.&nbsp\; Students interested in participating should meet near the Carter House directly after school.&nbsp\; This event is open to the public.&nbsp\; Participants not arriving from the high school should arrive through the park&#39\;s main entrance and park near the Carter House.
LOCATION:Lakeview Park
UID:e.1786.3357
SEQUENCE:3
DTSTAMP:20260424T224708Z
URL:https://members.frankfortky.info/events/details/work-party-to-remove-invasive-plants-at-lakeiew-park-3357
END:VEVENT

END:VCALENDAR
