BEGIN:VCALENDAR
VERSION:2.0
PRODID:-//ChamberMaster//Event Calendar 2.0//EN
METHOD:PUBLISH
X-PUBLISHED-TTL:P3D
REFRESH-INTERVAL:P3D
CALSCALE:GREGORIAN
BEGIN:VEVENT
DTSTART:20191214T170000Z
DTEND:20191214T190000Z
X-MICROSOFT-CDO-ALLDAYEVENT:FALSE
SUMMARY:Wreaths Across America
DESCRIPTION:On Saturday\, December 14\, 2019 at 12:00 PM\, Cub Scout Pack 269 Frankfort KY will be helping Frankfort Cemetery to Remember and Honor our veterans by laying Remembrance wreaths on the graves of our country's fallen heroes. Please help us honor and remember as many fallen heroes as possible by sponsoring remembrance wreaths\, volunteering on Wreaths Day\, or inviting your family and friends to attend with you.
X-ALT-DESC;FMTTYPE=text/html:On Saturday\, December 14\, 2019 at 12:00 PM\, Cub Scout Pack 269 Frankfort KY will be helping Frankfort Cemetery to Remember and Honor our veterans by laying Remembrance wreaths on the graves of our country&#39\;s fallen heroes. Please help us honor and remember as many fallen heroes as possible by sponsoring remembrance wreaths\, volunteering on Wreaths Day\, or inviting your family and friends to attend with you.
LOCATION:Frankfort Cemetery 215 East Main Street
UID:e.1786.3179
SEQUENCE:3
DTSTAMP:20260425T001511Z
URL:https://members.frankfortky.info/events/details/wreaths-across-america-3179
END:VEVENT

END:VCALENDAR
