BEGIN:VCALENDAR
VERSION:2.0
PRODID:-//ChamberMaster//Event Calendar 2.0//EN
METHOD:PUBLISH
X-PUBLISHED-TTL:P3D
REFRESH-INTERVAL:P3D
CALSCALE:GREGORIAN
BEGIN:VEVENT
DTSTART:20190508T220000Z
DTEND:20190508T230000Z
X-MICROSOFT-CDO-ALLDAYEVENT:FALSE
SUMMARY:Yoga for Beginners
DESCRIPTION:Yoga for Beginners\n\nWednesday\, May 8 @ 6:00pm\n\nRiver Room\n\n \n\nCertified yoga instructor Grace Rogers will lead participants in breathing exercises\, simple physical postures with some flowing in between\, and relaxation. Please wear comfortable clothing\, and bring a yoga mat if you have one.\n\n \n\nAdults\, please register online or at the library. For more information\, contact Diane Dehoney at 352-2665 x108 or diane@pspl.org.\n\n \n\nRegister: http://bit.ly/YogaBeginnersMay8
X-ALT-DESC;FMTTYPE=text/html:<p style="margin:0in\;margin-bottom:.0001pt\;background:white"><b><span style="font-size:14.0pt\;font-family:&quot\;Calibri&quot\;\,&quot\;sans-serif&quot\;">Yoga for Beginners<o:p></o:p></span></b></p>\n\n<p style="margin:0in\;margin-bottom:.0001pt\;background:white"><b><span style="font-size:14.0pt\;font-family:&quot\;Calibri&quot\;\,&quot\;sans-serif&quot\;">Wednesday\, May 8 @ 6:00pm<o:p></o:p></span></b></p>\n\n<p style="margin:0in\;margin-bottom:.0001pt\;background:white"><b><span style="font-size:14.0pt\;font-family:&quot\;Calibri&quot\;\,&quot\;sans-serif&quot\;">River Room<o:p></o:p></span></b></p>\n\n<p style="margin:0in\;margin-bottom:.0001pt\;background:white"><span style="font-size:14.0pt\;font-family:&quot\;Calibri&quot\;\,&quot\;sans-serif&quot\;"><o:p>&nbsp\;</o:p></span></p>\n\n<p style="margin:0in\;margin-bottom:.0001pt\;background:white"><span style="font-size:14.0pt\;font-family:&quot\;Calibri&quot\;\,&quot\;sans-serif&quot\;">Certified yoga instructor Grace Rogers will lead participants in breathing exercises\, simple physical postures with some flowing in between\, and relaxation. Please wear comfortable clothing\, and bring a yoga mat if you have one.<o:p></o:p></span></p>\n\n<p style="margin:0in\;margin-bottom:.0001pt\;background:white\;box-sizing: inherit\;\nfont-variant-ligatures: normal\;font-variant-caps: normal\;orphans: 2\;widows: 2\;\n-webkit-text-stroke-width: 0px\;text-decoration-style: initial\;text-decoration-color: initial\;\nword-spacing:0px"><span style="font-size:14.0pt\;font-family:&quot\;Calibri&quot\;\,&quot\;sans-serif&quot\;"><o:p>&nbsp\;</o:p></span></p>\n\n<p style="margin:0in\;margin-bottom:.0001pt\;background:white"><span style="font-size:14.0pt\;font-family:&quot\;Calibri&quot\;\,&quot\;sans-serif&quot\;">Adults\, please register online or at the library. For more information\, contact Diane Dehoney at 352-2665 x108 or&nbsp\;<a href="mailto:diane@pspl.org"><span style="color:windowtext">diane@pspl.org</span></a>.<o:p></o:p></span></p>\n\n<p style="margin:0in\;margin-bottom:.0001pt\;background:white\;box-sizing: inherit\;\nfont-variant-ligatures: normal\;font-variant-caps: normal\;orphans: 2\;widows: 2\;\n-webkit-text-stroke-width: 0px\;text-decoration-style: initial\;text-decoration-color: initial\;\nword-spacing:0px"><span style="font-size:14.0pt\;font-family:&quot\;Calibri&quot\;\,&quot\;sans-serif&quot\;"><o:p>&nbsp\;</o:p></span></p>\n\n<p style="margin:0in\;margin-bottom:.0001pt\;background:white"><span style="font-size:14.0pt\;font-family:&quot\;Calibri&quot\;\,&quot\;sans-serif&quot\;">Register:&nbsp\;<a href="http://bit.ly/YogaBeginnersMay8"><span style="color:windowtext">http://bit.ly/YogaBeginnersMay8</span></a><o:p></o:p></span></p>\n
LOCATION:Paul Sawyier Public Library 319 Wapping Street Frankfort KY
UID:e.1786.3119
SEQUENCE:3
DTSTAMP:20260425T132415Z
URL:https://members.frankfortky.info/events/details/yoga-for-beginners-3119
END:VEVENT

END:VCALENDAR
