BEGIN:VCALENDAR
VERSION:2.0
PRODID:-//ChamberMaster//Event Calendar 2.0//EN
METHOD:PUBLISH
X-PUBLISHED-TTL:P3D
REFRESH-INTERVAL:P3D
CALSCALE:GREGORIAN
BEGIN:VEVENT
DTSTART:20191211T230000Z
DTEND:20191212T010000Z
X-MICROSOFT-CDO-ALLDAYEVENT:FALSE
SUMMARY:Yoga for Beginners
DESCRIPTION:Yoga for Beginners\n\nWednesday\, December 11 @ 6:00pm\n\nRiver Room\n\n \n\nCertified yoga instructor Grace Rogers will lead participants in breathing exercises\, simple physical postures with some flowing in between\, and relaxation. Please wear comfortable clothing\, and bring a yoga mat if you have one.\n\n \n\nAdults\, please register online or at the library. For more information\, contact Diane Dehoney at 352-2665 x108 or diane@pspl.org.\n\n \n\nRegister: http://bit.ly/YogaBeginnersDec11
X-ALT-DESC;FMTTYPE=text/html:<p style="margin:0in\;margin-bottom:.0001pt\;background:white"><b><span style="font-family:&quot\;Calibri&quot\;\,&quot\;sans-serif&quot\;">Yoga for Beginners<br />\nWednesday\, December 11 @ 6:00pm<br />\nRiver Room<o:p></o:p></span></b></p>\n\n<p style="margin:0in\;margin-bottom:.0001pt\;background:white"><span style="font-family:&quot\;Calibri&quot\;\,&quot\;sans-serif&quot\;"><o:p>&nbsp\;</o:p></span></p>\n\n<p style="margin:0in\;margin-bottom:.0001pt\;background:white"><span style="font-family:&quot\;Calibri&quot\;\,&quot\;sans-serif&quot\;">Certified yoga instructor Grace Rogers will lead participants in breathing exercises\, simple physical postures with some flowing in between\, and relaxation. Please wear comfortable clothing\, and bring a yoga mat if you have one.<o:p></o:p></span></p>\n\n<p style="margin:0in\;margin-bottom:.0001pt\;background:white\;box-sizing: inherit\;\nfont-variant-ligatures: normal\;font-variant-caps: normal\;orphans: 2\;widows: 2\;\n-webkit-text-stroke-width: 0px\;text-decoration-style: initial\;text-decoration-color: initial\;\nword-spacing:0px"><span style="font-family:&quot\;Calibri&quot\;\,&quot\;sans-serif&quot\;"><o:p>&nbsp\;</o:p></span></p>\n\n<p style="margin:0in\;margin-bottom:.0001pt\;background:white"><span style="font-family:&quot\;Calibri&quot\;\,&quot\;sans-serif&quot\;">Adults\, please register online or at the library. For more information\, contact Diane Dehoney at 352-2665 x108 or&nbsp\;<a href="https://www.pspl.org/event/yoga-for-beginners-35/diane@pspl.org"><span style="color:windowtext">diane@pspl.org</span></a>.<o:p></o:p></span></p>\n\n<p style="margin:0in\;margin-bottom:.0001pt\;background:white\;box-sizing: inherit\;\nfont-variant-ligatures: normal\;font-variant-caps: normal\;orphans: 2\;widows: 2\;\n-webkit-text-stroke-width: 0px\;text-decoration-style: initial\;text-decoration-color: initial\;\nword-spacing:0px"><span style="font-family:&quot\;Calibri&quot\;\,&quot\;sans-serif&quot\;"><o:p>&nbsp\;</o:p></span></p>\n\n<p style="margin:0in\;margin-bottom:.0001pt\;background:white"><span style="font-family:&quot\;Calibri&quot\;\,&quot\;sans-serif&quot\;">Register:&nbsp\;<a href="http://bit.ly/YogaBeginnersDec11"><span style="color:windowtext">http://bit.ly/YogaBeginnersDec11</span></a><o:p></o:p></span></p>\n
LOCATION:
UID:e.1786.3334
SEQUENCE:3
DTSTAMP:20260425T015347Z
URL:https://members.frankfortky.info/events/details/yoga-for-beginners-3334
END:VEVENT

END:VCALENDAR
