BEGIN:VCALENDAR
VERSION:2.0
PRODID:-//ChamberMaster//Event Calendar 2.0//EN
METHOD:PUBLISH
X-PUBLISHED-TTL:P3D
REFRESH-INTERVAL:P3D
CALSCALE:GREGORIAN
BEGIN:VEVENT
DTSTART:20211115T223000Z
DTEND:20211116T010000Z
X-MICROSOFT-CDO-ALLDAYEVENT:FALSE
SUMMARY:Young Professionals Farm to Skillet Event Sponsored by CCU
DESCRIPTION:
X-ALT-DESC;FMTTYPE=text/html:
LOCATION:About the Chef Chef Charles made a career working with Kentucky food. In his professional career\, Charles has worked alongside the best chefs and farmers in central Kentucky while running kitchens including Woodford Reserve as Executive Chef\, The Holly Hill Inn as chef de cuisine and at Fasig Tipton as Executive chef. His passion for sharing the farm to table experience led to honing his joie de vi vre at West Sixth Farm in Franklin Co. Most recently\, his culinary and farming vocations led him to consulting the opening of Locals Food Hub and Pizza Pub in Frankfort\, Ky. "It is a privilege to live and cook Kentucky Proud."- Chef Charles Taylor
UID:e.1786.3621
SEQUENCE:3
DTSTAMP:20260423T070637Z
URL:https://members.frankfortky.info/events/details/young-professionals-farm-to-skillet-event-sponsored-by-ccu-3621
END:VEVENT

END:VCALENDAR
